BEGIN:VCALENDAR
VERSION:2.0
PRODID:-//PNW Weddings - ECPv6.15.20//NONSGML v1.0//EN
CALSCALE:GREGORIAN
METHOD:PUBLISH
X-WR-CALNAME:PNW Weddings
X-ORIGINAL-URL:https://pnw-wedding.com
X-WR-CALDESC:Events for PNW Weddings
REFRESH-INTERVAL;VALUE=DURATION:PT1H
X-Robots-Tag:noindex
X-PUBLISHED-TTL:PT1H
BEGIN:VTIMEZONE
TZID:America/Los_Angeles
BEGIN:DAYLIGHT
TZOFFSETFROM:-0800
TZOFFSETTO:-0700
TZNAME:PDT
DTSTART:20230312T100000
END:DAYLIGHT
BEGIN:STANDARD
TZOFFSETFROM:-0700
TZOFFSETTO:-0800
TZNAME:PST
DTSTART:20231105T090000
END:STANDARD
BEGIN:DAYLIGHT
TZOFFSETFROM:-0800
TZOFFSETTO:-0700
TZNAME:PDT
DTSTART:20240310T100000
END:DAYLIGHT
BEGIN:STANDARD
TZOFFSETFROM:-0700
TZOFFSETTO:-0800
TZNAME:PST
DTSTART:20241103T090000
END:STANDARD
BEGIN:DAYLIGHT
TZOFFSETFROM:-0800
TZOFFSETTO:-0700
TZNAME:PDT
DTSTART:20250309T100000
END:DAYLIGHT
BEGIN:STANDARD
TZOFFSETFROM:-0700
TZOFFSETTO:-0800
TZNAME:PST
DTSTART:20251102T090000
END:STANDARD
END:VTIMEZONE
BEGIN:VEVENT
DTSTART;TZID=America/Los_Angeles:20240302T110000
DTEND;TZID=America/Los_Angeles:20240302T173000
DTSTAMP:20260421T025155
CREATED:20240113T155648Z
LAST-MODIFIED:20240113T155810Z
UID:20554-1709377200-1709400600@pnw-wedding.com
SUMMARY:Hitched 2024 - Wedding Showcase
DESCRIPTION:Upcoming Events
URL:https://pnw-wedding.com/event/upcoming-events-hitched-wedding-showcase/
LOCATION:Abbey Road Farm\, 10501 NE Abbey Road\, Carlton\, 97111\, United States
END:VEVENT
END:VCALENDAR